BEGIN:VCALENDAR
VERSION:2.0
CALSCALE:GREGORIAN
METHOD:PUBLISH
X-WR-TIMEZONE:Australia/Sydney
BEGIN:VTIMEZONE
TZID:Australia/Sydney
BEGIN:STANDARD
TZNAME:AEST
END:STANDARD
END:VTIMEZONE
BEGIN:VEVENT
DTSTART;TZID=Australia/Sydney:20260402T090000
DTEND;TZID=Australia/Sydney:20260402T143000
DTSTAMP:20260424T024244
UID:163
SUMMARY:Term 1 House Spirit Day 
DESCRIPTION:




House Spirit Day! Wear your T-Shirts and get ready for a day of movie themed fun. Assembly at 2:00pm and pick up at 2:30pm


SEQUENCE:0
STATUS:CONFIRMED
TRANSP:OPAQUE
END:VEVENT
END:VCALENDAR